BEGIN:VCALENDAR
VERSION:2.0
PRODID:-//Llantrisant Guildhall - ECPv6.13.2.1//NONSGML v1.0//EN
CALSCALE:GREGORIAN
METHOD:PUBLISH
X-ORIGINAL-URL:https://llantrisantguildhall.co.uk
X-WR-CALDESC:Events for Llantrisant Guildhall
REFRESH-INTERVAL;VALUE=DURATION:PT1H
X-Robots-Tag:noindex
X-PUBLISHED-TTL:PT1H
BEGIN:VTIMEZONE
TZID:Europe/Paris
BEGIN:DAYLIGHT
TZOFFSETFROM:+0100
TZOFFSETTO:+0200
TZNAME:CEST
DTSTART:20260329T010000
END:DAYLIGHT
BEGIN:STANDARD
TZOFFSETFROM:+0200
TZOFFSETTO:+0100
TZNAME:CET
DTSTART:20261025T010000
END:STANDARD
END:VTIMEZONE
BEGIN:VEVENT
DTSTART;TZID=Europe/Paris:20260514T110000
DTEND;TZID=Europe/Paris:20260514T130000
DTSTAMP:20260419T205858
CREATED:20260305T062316Z
LAST-MODIFIED:20260305T062501Z
UID:8731-1778756400-1778763600@llantrisantguildhall.co.uk
SUMMARY:Photography Walk & Talk
DESCRIPTION:Fred Stacey – Photography Walk & Talk \nThursday 14 May 2026\n11:00am – 1:00pm \nJoin Fred\, a keen photographer and filmmaker. No fancy gear needed\, you can just use your phone to enjoy and share your photographic interest. \nEach session will have a particular theme and involve a short local walk starting at Llantrisant Guildhall. \n(In the event of bad weather the activity will take place within the Guildhall.) \nThis is a free Community event – no need to book. \n\nGwyneth’s Tea Room and Bar will be open for refreshments.
URL:https://llantrisantguildhall.co.uk/event/photography-walk-talk/
LOCATION:Llantrisant Guildhall\, George Street\, Llantrisant\, CF72 8EE\, United Kingdom
ORGANIZER;CN="Llantrisant Guildhall":MAILTO:info@llantrisantguildhall.co.uk
END:VEVENT
BEGIN:VEVENT
DTSTART;TZID=Europe/Paris:20260611T110000
DTEND;TZID=Europe/Paris:20260611T130000
DTSTAMP:20260419T205858
CREATED:20260317T145908Z
LAST-MODIFIED:20260317T145945Z
UID:8835-1781175600-1781182800@llantrisantguildhall.co.uk
SUMMARY:Photography Walk & Talk
DESCRIPTION:Fred Stacey – Photography Walk & Talk \nThursday 11 June 2026\n11:00am – 1:00pm \nJoin Fred\, a keen photographer and filmmaker. No fancy gear needed\, you can just use your phone to enjoy and share your photographic interest. \nEach session will have a particular theme and involve a short local walk starting at Llantrisant Guildhall. \n(In the event of bad weather the activity will take place within the Guildhall.) \nThis is a free Community event – no need to book. \n\nGwyneth’s Tea Room and Bar will be open for refreshments.
URL:https://llantrisantguildhall.co.uk/event/photography-walk-talk-3/
LOCATION:Llantrisant Guildhall\, George Street\, Llantrisant\, CF72 8EE\, United Kingdom
ORGANIZER;CN="Llantrisant Guildhall":MAILTO:info@llantrisantguildhall.co.uk
END:VEVENT
END:VCALENDAR