BEGIN:VCALENDAR
VERSION:2.0
PRODID:-//Llantrisant Guildhall - ECPv6.13.2.1//NONSGML v1.0//EN
CALSCALE:GREGORIAN
METHOD:PUBLISH
X-ORIGINAL-URL:https://llantrisantguildhall.co.uk
X-WR-CALDESC:Events for Llantrisant Guildhall
REFRESH-INTERVAL;VALUE=DURATION:PT1H
X-Robots-Tag:noindex
X-PUBLISHED-TTL:PT1H
BEGIN:VTIMEZONE
TZID:Europe/Paris
BEGIN:DAYLIGHT
TZOFFSETFROM:+0100
TZOFFSETTO:+0200
TZNAME:CEST
DTSTART:20260329T010000
END:DAYLIGHT
BEGIN:STANDARD
TZOFFSETFROM:+0200
TZOFFSETTO:+0100
TZNAME:CET
DTSTART:20261025T010000
END:STANDARD
END:VTIMEZONE
BEGIN:VEVENT
DTSTART;TZID=Europe/Paris:20260515T133000
DTEND;TZID=Europe/Paris:20260515T150000
DTSTAMP:20260419T191021
CREATED:20260305T073535Z
LAST-MODIFIED:20260305T073613Z
UID:8760-1778851800-1778857200@llantrisantguildhall.co.uk
SUMMARY:Crafting in the Tea Room - Stitching
DESCRIPTION:Crafting in the Tea Room – Stitching \nFriday 15 May 2026\n1:30pm – 3:00pm \nJoin us in Gwyneth’s Tea Room for our FREE informal stitching and crafting sessions. \nBring something you’re working on\, have a chat\, and share ideas & methods with others.\n\n\n  \nGwyneth’s Tea Room will be open for refreshments.
URL:https://llantrisantguildhall.co.uk/event/8760/
LOCATION:Llantrisant Guildhall\, George Street\, Llantrisant\, CF72 8EE\, United Kingdom
ORGANIZER;CN="Llantrisant Guildhall":MAILTO:info@llantrisantguildhall.co.uk
END:VEVENT
BEGIN:VEVENT
DTSTART;TZID=Europe/Paris:20260516T100000
DTEND;TZID=Europe/Paris:20260516T120000
DTSTAMP:20260419T191021
CREATED:20260301T171202Z
LAST-MODIFIED:20260408T114742Z
UID:8698-1778925600-1778932800@llantrisantguildhall.co.uk
SUMMARY:Mosaic Taster Workshop
DESCRIPTION:  \n \n  \nMosiac Taster Session \nSaturday 16 May 2026\n10:00am – 12:00pm \nLocal artist Justine Stroud is offering a Mosiac Taster Session based at Llantrisant Guildhall on Saturday 16th May 2026 at 10am. The 2 hour workshop will give you the opportunity to learn basic mosaic methods and to make a coaster with your initial on it. While its being fired you can enjoy a cuppa in our tea room. \nThere are only 10 spaces on this workshop so please book early to guarantee your place! \n 
URL:https://llantrisantguildhall.co.uk/event/mosaic-taster-session/
LOCATION:Llantrisant Guildhall\, George Street\, Llantrisant\, CF72 8EE\, United Kingdom
ORGANIZER;CN="Llantrisant Guildhall":MAILTO:info@llantrisantguildhall.co.uk
END:VEVENT
END:VCALENDAR