BEGIN:VCALENDAR
VERSION:2.0
PRODID:-//Llantrisant Guildhall - ECPv6.13.2.1//NONSGML v1.0//EN
CALSCALE:GREGORIAN
METHOD:PUBLISH
X-ORIGINAL-URL:https://llantrisantguildhall.co.uk
X-WR-CALDESC:Events for Llantrisant Guildhall
REFRESH-INTERVAL;VALUE=DURATION:PT1H
X-Robots-Tag:noindex
X-PUBLISHED-TTL:PT1H
BEGIN:VTIMEZONE
TZID:Europe/Paris
BEGIN:DAYLIGHT
TZOFFSETFROM:+0100
TZOFFSETTO:+0200
TZNAME:CEST
DTSTART:20260329T010000
END:DAYLIGHT
BEGIN:STANDARD
TZOFFSETFROM:+0200
TZOFFSETTO:+0100
TZNAME:CET
DTSTART:20261025T010000
END:STANDARD
END:VTIMEZONE
BEGIN:VEVENT
DTSTART;TZID=Europe/Paris:20260424T160000
DTEND;TZID=Europe/Paris:20260424T183000
DTSTAMP:20260419T190958
CREATED:20260305T063128Z
LAST-MODIFIED:20260414T090144Z
UID:8737-1777046400-1777055400@llantrisantguildhall.co.uk
SUMMARY:Happy Hour with Bottle & Board (Sharing Platter)
DESCRIPTION:  \n \nHappy Hour in Gwyneth’s! \nFriday 24 April 2026\n4:00pm – 6:30pm \nWe are excited to be partnering with Bottle & Board Wine & Charcuterie for this Happy Hour! \nA choice of grazing platter for two people – either meat and cheese or cheese only and a bottle of red\, white or rose wine.  \nTickets are £38 and can be purchsed online\, in person or by telephone. When you book please state which selection of grazing platter you require. Note: If you require a platter for one\, please call to discuss.  \nPlease ensure to book in advance\, ticket sales close at 4pm on Tuesday 21st April.   \nJoin is at the Guildhall for a relaxed get together in Gwyneth’s Tea Room and Bar.
URL:https://llantrisantguildhall.co.uk/event/happy-hour-2/
LOCATION:Llantrisant Guildhall\, George Street\, Llantrisant\, CF72 8EE\, United Kingdom
ORGANIZER;CN="Llantrisant Guildhall":MAILTO:info@llantrisantguildhall.co.uk
END:VEVENT
BEGIN:VEVENT
DTSTART;TZID=Europe/Paris:20260502T080000
DTEND;TZID=Europe/Paris:20260502T170000
DTSTAMP:20260419T190958
CREATED:20260305T074246Z
LAST-MODIFIED:20260305T074246Z
UID:8763-1777708800-1777741200@llantrisantguildhall.co.uk
SUMMARY:Paned a Pharod i Siarad - Welsh speaker's coffee morning (all levels)
DESCRIPTION:Paned a Pharod i Siarad\n– Welsh speaker’s coffee morning (all levels) \nSaturday 02 May 2026\n10:30am – 12:30pm \nFree event – Just turn up! \nA weekly community event. \nAn informal coffee morning aimed at Welsh learners and fluent speakers to practice and an opportunity to converse in Welsh. \n\n  \n\n\n\n\n\n  \nPaned a Pharod i Siarad – Bore Coffi \n\nDigwyddiad cymunedol wythnosol newydd.\nBore coffi anffurfiol wedi ei anelu at dysgwyr a siaradwyr Cymraeg i ymarfer neu cyfle i sgwrsio yn y Gymraeg.\n\n  \n\n\nGwyneth’s Tea Room and Bar will be open for refreshments.
URL:https://llantrisantguildhall.co.uk/event/paned-a-pharod-i-siarad-welsh-speakers-coffee-morning-all-levels-3/
LOCATION:Llantrisant Guildhall\, George Street\, Llantrisant\, CF72 8EE\, United Kingdom
ORGANIZER;CN="Llantrisant Guildhall":MAILTO:info@llantrisantguildhall.co.uk
END:VEVENT
END:VCALENDAR